Workbook

Sheet Formular
B1: Antrag auf Anerkennung von Studien- und Prüfungsleistungen
B2: (einzureichen per E-Mail bei der zuständigen Sachbearbeitung im Bereich Prüfungswesen unter Beachtung der Ausschlussfristen)
B3: Name, Vorname:
B4: Anschrift:
B5: Telefon, Email:
B6: Matrikelnummer: (sofern bereits an der UDE immatrikuliert)
B7: Anrechnung für folgenden Abschluss/Studiengang: | E7: ='Prüfungen Studiengang'!H1 -> Master of Arts Arbeit-Organisation-Gesellschaft (PO 25) | M7: Regelstudienzeit: | O7: ='Prüfungen Studiengang'!H2 -> 4
B8: Durch Antragsteller/in auszufüllen! | J8: Eintrag durch den Prüfungsausschuss / Prüfer/in / Bereich Prüfungswesen
B9: Bereits abgelegte Prüfungsleistungen | H9: Antrag auf Anerkennung
B10: Titel der bereits abgelegten Prüfung*1) Bitte nur eine Prüfung pro Zeile eintragen! (Bezeichung laut Transcript) | D10: abge-legt wo? *2) (I, A, B, W) | E10: Prüfungsform (Klausur, Hausarbeit, mdl. Prüfung etc.) | F10: Erwor- bene Credits (laut Transcript) | G10: Note (laut Transcript) | H10: Lfd. Nr. | I10: für folgende Prüfungen: (Bitte nur die laufende Nummer aus der Anlage "Prüfungen Studiengang" eintragen; der Name der Prüfung wird automatisiert ergänzt) | J10: Lfd. Nr. | K10: Prüfung wird anerkannt für: Pool / Prüfungsnr. / Prüfung | L10: Ja / Nein *3) | M10: Aner- kannte Credits | N10: Über- nommene Note | O10: Antrag geprüft durch:
I11: =IF(H11>0,LEFT(TEXT(VLOOKUP($H11,'Prüfungen Studiengang'!$A$4:$E$1966,4,FALSE),0),45),"") | K11: =IF(J11>0,LEFT(TEXT(VLOOKUP($J11,'Prüfungen Studiengang'!$A$4:$E$1966,2,FALSE),0)&"/"&TEXT(VLOOKUP($J11,'Prüfungen Studiengang'!$A$4:$E$1966,3,FALSE),0)&"/"&TEXT(VLOOKUP($J11,'Prüfungen Studiengang'!$A$4:$E$1966,4,FALSE),0),45),"") | M11: =IF(OR(J11="",L11="A",L11="B",L11="C",L11="D"),"",(VLOOKUP($J11,'Prüfungen Studiengang'!$A$4:$E$1966,5,FALSE)))
I12: =IF(H12>0,LEFT(TEXT(VLOOKUP($H12,'Prüfungen Studiengang'!$A$4:$E$1966,4,FALSE),0),45),"") | K12: =IF(J12>0,LEFT(TEXT(VLOOKUP($J12,'Prüfungen Studiengang'!$A$4:$E$1966,2,FALSE),0)&"/"&TEXT(VLOOKUP($J12,'Prüfungen Studiengang'!$A$4:$E$1966,3,FALSE),0)&"/"&TEXT(VLOOKUP($J12,'Prüfungen Studiengang'!$A$4:$E$1966,4,FALSE),0),45),"") | M12: =IF(OR(J12="",L12="A",L12="B",L12="C",L12="D"),"",(VLOOKUP($J12,'Prüfungen Studiengang'!$A$4:$E$1966,5,FALSE)))
I13: =IF(H13>0,LEFT(TEXT(VLOOKUP($H13,'Prüfungen Studiengang'!$A$4:$E$1966,4,FALSE),0),45),"") | K13: =IF(J13>0,LEFT(TEXT(VLOOKUP($J13,'Prüfungen Studiengang'!$A$4:$E$1966,2,FALSE),0)&"/"&TEXT(VLOOKUP($J13,'Prüfungen Studiengang'!$A$4:$E$1966,3,FALSE),0)&"/"&TEXT(VLOOKUP($J13,'Prüfungen Studiengang'!$A$4:$E$1966,4,FALSE),0),45),"") | M13: =IF(OR(J13="",L13="A",L13="B",L13="C",L13="D"),"",(VLOOKUP($J13,'Prüfungen Studiengang'!$A$4:$E$1966,5,FALSE)))
I14: =IF(H14>0,LEFT(TEXT(VLOOKUP($H14,'Prüfungen Studiengang'!$A$4:$E$1966,4,FALSE),0),45),"") | K14: =IF(J14>0,LEFT(TEXT(VLOOKUP($J14,'Prüfungen Studiengang'!$A$4:$E$1966,2,FALSE),0)&"/"&TEXT(VLOOKUP($J14,'Prüfungen Studiengang'!$A$4:$E$1966,3,FALSE),0)&"/"&TEXT(VLOOKUP($J14,'Prüfungen Studiengang'!$A$4:$E$1966,4,FALSE),0),45),"") | M14: =IF(OR(J14="",L14="A",L14="B",L14="C",L14="D"),"",(VLOOKUP($J14,'Prüfungen Studiengang'!$A$4:$E$1966,5,FALSE)))
I15: =IF(H15>0,LEFT(TEXT(VLOOKUP($H15,'Prüfungen Studiengang'!$A$4:$E$1966,4,FALSE),0),45),"") | K15: =IF(J15>0,LEFT(TEXT(VLOOKUP($J15,'Prüfungen Studiengang'!$A$4:$E$1966,2,FALSE),0)&"/"&TEXT(VLOOKUP($J15,'Prüfungen Studiengang'!$A$4:$E$1966,3,FALSE),0)&"/"&TEXT(VLOOKUP($J15,'Prüfungen Studiengang'!$A$4:$E$1966,4,FALSE),0),45),"") | M15: =IF(OR(J15="",L15="A",L15="B",L15="C",L15="D"),"",(VLOOKUP($J15,'Prüfungen Studiengang'!$A$4:$E$1966,5,FALSE)))
I16: =IF(H16>0,LEFT(TEXT(VLOOKUP($H16,'Prüfungen Studiengang'!$A$4:$E$1966,4,FALSE),0),45),"") | K16: =IF(J16>0,LEFT(TEXT(VLOOKUP($J16,'Prüfungen Studiengang'!$A$4:$E$1966,2,FALSE),0)&"/"&TEXT(VLOOKUP($J16,'Prüfungen Studiengang'!$A$4:$E$1966,3,FALSE),0)&"/"&TEXT(VLOOKUP($J16,'Prüfungen Studiengang'!$A$4:$E$1966,4,FALSE),0),45),"") | M16: =IF(OR(J16="",L16="A",L16="B",L16="C",L16="D"),"",(VLOOKUP($J16,'Prüfungen Studiengang'!$A$4:$E$1966,5,FALSE)))
I17: =IF(H17>0,LEFT(TEXT(VLOOKUP($H17,'Prüfungen Studiengang'!$A$4:$E$1966,4,FALSE),0),45),"") | K17: =IF(J17>0,LEFT(TEXT(VLOOKUP($J17,'Prüfungen Studiengang'!$A$4:$E$1966,2,FALSE),0)&"/"&TEXT(VLOOKUP($J17,'Prüfungen Studiengang'!$A$4:$E$1966,3,FALSE),0)&"/"&TEXT(VLOOKUP($J17,'Prüfungen Studiengang'!$A$4:$E$1966,4,FALSE),0),45),"") | M17: =IF(OR(J17="",L17="A",L17="B",L17="C",L17="D"),"",(VLOOKUP($J17,'Prüfungen Studiengang'!$A$4:$E$1966,5,FALSE)))
I18: =IF(H18>0,LEFT(TEXT(VLOOKUP($H18,'Prüfungen Studiengang'!$A$4:$E$1966,4,FALSE),0),45),"") | K18: =IF(J18>0,LEFT(TEXT(VLOOKUP($J18,'Prüfungen Studiengang'!$A$4:$E$1966,2,FALSE),0)&"/"&TEXT(VLOOKUP($J18,'Prüfungen Studiengang'!$A$4:$E$1966,3,FALSE),0)&"/"&TEXT(VLOOKUP($J18,'Prüfungen Studiengang'!$A$4:$E$1966,4,FALSE),0),45),"") | M18: =IF(OR(J18="",L18="A",L18="B",L18="C",L18="D"),"",(VLOOKUP($J18,'Prüfungen Studiengang'!$A$4:$E$1966,5,FALSE)))
I19: =IF(H19>0,LEFT(TEXT(VLOOKUP($H19,'Prüfungen Studiengang'!$A$4:$E$1966,4,FALSE),0),45),"") | K19: =IF(J19>0,LEFT(TEXT(VLOOKUP($J19,'Prüfungen Studiengang'!$A$4:$E$1966,2,FALSE),0)&"/"&TEXT(VLOOKUP($J19,'Prüfungen Studiengang'!$A$4:$E$1966,3,FALSE),0)&"/"&TEXT(VLOOKUP($J19,'Prüfungen Studiengang'!$A$4:$E$1966,4,FALSE),0),45),"") | M19: =IF(OR(J19="",L19="A",L19="B",L19="C",L19="D"),"",(VLOOKUP($J19,'Prüfungen Studiengang'!$A$4:$E$1966,5,FALSE)))
I20: =IF(H20>0,LEFT(TEXT(VLOOKUP($H20,'Prüfungen Studiengang'!$A$4:$E$1966,4,FALSE),0),45),"") | K20: =IF(J20>0,LEFT(TEXT(VLOOKUP($J20,'Prüfungen Studiengang'!$A$4:$E$1966,2,FALSE),0)&"/"&TEXT(VLOOKUP($J20,'Prüfungen Studiengang'!$A$4:$E$1966,3,FALSE),0)&"/"&TEXT(VLOOKUP($J20,'Prüfungen Studiengang'!$A$4:$E$1966,4,FALSE),0),45),"") | M20: =IF(OR(J20="",L20="A",L20="B",L20="C",L20="D"),"",(VLOOKUP($J20,'Prüfungen Studiengang'!$A$4:$E$1966,5,FALSE)))
I21: =IF(H21>0,LEFT(TEXT(VLOOKUP($H21,'Prüfungen Studiengang'!$A$4:$E$1966,4,FALSE),0),45),"") | K21: =IF(J21>0,LEFT(TEXT(VLOOKUP($J21,'Prüfungen Studiengang'!$A$4:$E$1966,2,FALSE),0)&"/"&TEXT(VLOOKUP($J21,'Prüfungen Studiengang'!$A$4:$E$1966,3,FALSE),0)&"/"&TEXT(VLOOKUP($J21,'Prüfungen Studiengang'!$A$4:$E$1966,4,FALSE),0),45),"") | M21: =IF(OR(J21="",L21="A",L21="B",L21="C",L21="D"),"",(VLOOKUP($J21,'Prüfungen Studiengang'!$A$4:$E$1966,5,FALSE)))
I22: =IF(H22>0,LEFT(TEXT(VLOOKUP($H22,'Prüfungen Studiengang'!$A$4:$E$1966,4,FALSE),0),45),"") | K22: =IF(J22>0,LEFT(TEXT(VLOOKUP($J22,'Prüfungen Studiengang'!$A$4:$E$1966,2,FALSE),0)&"/"&TEXT(VLOOKUP($J22,'Prüfungen Studiengang'!$A$4:$E$1966,3,FALSE),0)&"/"&TEXT(VLOOKUP($J22,'Prüfungen Studiengang'!$A$4:$E$1966,4,FALSE),0),45),"") | M22: =IF(OR(J22="",L22="A",L22="B",L22="C",L22="D"),"",(VLOOKUP($J22,'Prüfungen Studiengang'!$A$4:$E$1966,5,FALSE)))
... I35: =IF(H35>0,LEFT(TEXT(VLOOKUP($H35,'Prüfungen Studiengang'!$A$4:$E$1966,4,FALSE),0),45),"") | K35: =IF(J35>0,LEFT(TEXT(VLOOKUP($J35,'Prüfungen Studiengang'!$A$4:$E$1966,2,FALSE),0)&"/"&TEXT(VLOOKUP($J35,'Prüfungen Studiengang'!$A$4:$E$1966,3,FALSE),0)&"/"&TEXT(VLOOKUP($J35,'Prüfungen Studiengang'!$A$4:$E$1966,4,FALSE),0),45),"") | M35: =IF(OR(J35="",L35="A",L35="B",L35="C",L35="D"),"",(VLOOKUP($J35,'Prüfungen Studiengang'!$A$4:$E$1966,5,FALSE)))
B36: Hinweis für Antragsteller: Parallel zu diesem elektronischen Antrag ist die Übersendung eines offiziellen Transcript of Records an den Bereich Prüfungswesen erforderlich. Hierzu bitte ausschließlich das Anschreiben "Unterlagen zum Onlineantrag " - Anerkennung von Studien- und Prüfungsleistungen - benutzen. Erst bei Eingang dieses Anschreibens nebst Transcript - innerhalb der Antragsfrist - ist eine Bearbeitung des Onlineantrages möglich. | J36: Summe der anerkannten Credits: | M36: =SUMIF($L$11:$L$35,"Ja",$M$11:$M$35) -> 0 | N36: Dieser Bescheid ist bei der Bewerbung für ein höheres Fachsemester und bei der Einschreibung vorzulegen.
J37: (Anerkannte Credits x Regelstudienzeit : max. zu erwerbende Credits): | L37: =IF(M36*7/210<0.5,"Bewerbung/Einschreibung in das 1. Fachsemester möglich.",IF(M36*7/210<1.5,"Bewerbung/Einschreibung in das 2. Fachsemester möglich.",IF(M36*7/210<2.5,"Bewerbung/Einschreibung in das 3. Fachsemester möglich.",IF(M36*7/210<3.5,"Bewerbung/Einschreibung in das 4. Fachsemester möglich.",IF(M36*7/210<4.5,"Bewerbung/Einschreibung in das 5. Fachsemester möglich.",IF(M36*7/210<5.5,"Bewerbung/Einschreibung in das 6. Fachsemester möglich.",IF(M36*7/210<6.5,"Bewerbung/Einschreibung in das 7. Fachsemester möglich."))))))) -> Bewerbung/Einschreibung in das 1. Fachsemester möglich.
B38: Ich beantrage einen Einstufungsbescheid: / (Zutreffendes bitte anklicken) | J38: =+TEXT(M36,"0")&" x "&TEXT(O7,"0")&" : "&TEXT(O7*30,"000")&" = "&TEXT(M36/30,"0,0")&" Semester" -> 0 x 4 : 120 = 0,0 Semester
B40: *1) Einzureichende Unterlagen: | F40: Anlage 1: Transcript of Records | J40: Anlage 3: Prüfungsordnung
F41: Anlage 2: Auszug aus dem Modulhandbuch | J41: Anlage 4: ggf. Learning Agreement bei Leistungen im Ausland
B43: *2) Wo wurde die Prüfung abgelegt?
B44: I = im Inland | C44: A = im Ausland | E44: B = Beruf | G44: W = Weitere („Außerhalb des Hochschulwesens“ - z.B. Schule, Praktika, Weiterbildung)
B46: *3) Ablehnungsgründe (weitere Erläuterungen ggf. auf Seite 3 ergänzen):
B47: A - Nichtanerkennung wegen inhaltlicher Inkompatibilität | I47: C - Nichtanerkennung wegen nicht aussagekräftiger Unterlagen
B48: B - Nichtanerkennung wegen anderer vermittelter Kompetenzen | I48: D - Nichtanerkennung aus anderen Gründen
B50: Ausführliche Begründungen zu den Ablehnungen (A - D):
B52: Lfd. Nr. | C52: Grund (A, B, C oder D) | D52: Begründung
B67: Rechtsmittelbelehrung:
B69: Gegen diesen Bescheid kann innerhalb eines Monats nach Bekanntgabe Klage erhoben werden. Die Klage ist schriftlich oder zur Niederschrift beim Urkundsbeamten der Geschäftsstelle des Verwaltungsgerichts Düsseldorf (Bastionstr. 39, 40213 Düsseldorf) einzureichen. Sollte die Frist durch das Verschulden eines von Ihnen Bevollmächtigten versäumt werden, würde dessen Verschulden Ihnen zugerechnet werden.
B72: Hinweis:
B73: Die von Ihnen anderweitig erbrachten Prüfungsleistungen wurden auf Antrag anerkannt, sofern hinsichtlich der erworbenen Kompetenzen kein wesentlicher Unterschied zu den Leistungen besteht, die ersetzt werden sollen. Wurde die begehrte Anerkennung versagt, so ist auf Antrag eine Überprüfung der Entscheidung durch das Rektorat unter Beifügung einer ausführlichen Begründung möglich. Durch den Antrag auf Überprüfung wird der Lauf der Rechtsmittelfrist nicht gehemmt.
B77: Mit freundlichen Grüßen
B79: Für den/die Vorsitzende/n des Prüfungsausschusses
B80: Prof. Dr. F. Kleemann
B81: Im Auftrag
B84: _____________________________________
B86: (Sachbearbeiter/in Bereich Prüfungswesen)

Sheet Prüfungen Studiengang
A1: Übersicht aller Prüfungsleistungen im Studiengang Master of Arts Arbeit-Organisation-Gesellschaft | G1: Studiengang: | H1: Master of Arts Arbeit-Organisation-Gesellschaft (PO 25)
G2: Regelstudienzeit: | H2: 4
A4: Lfd. Nr. | B4: Pool | C4: Prüf.Nr. | D4: Prüfung | E4: Credits
A5: 999 | B5: - | C5: - | D5: Freitext (bitte mit Namen der Prüfung überschreiben)
A6: 998 | B6: - | C6: - | D6: Freitext (bitte mit Namen der Prüfung überschreiben)
A7: 997 | B7: - | C7: - | D7: Freitext (bitte mit Namen der Prüfung überschreiben)
A8: 996 | B8: - | C8: - | D8: Freitext (bitte mit Namen der Prüfung überschreiben)
A9: 995 | B9: - | C9: - | D9: Freitext (bitte mit Namen der Prüfung überschreiben)
A11: Pflichtmodule
A12: 1 | B12: ZBA | C12: 60110 | D12: Organisation und Regulierung von Erwerbsarbeit | E12: 5
A13: 2 | B13: SBA | C13: 60101 | D13: Studienleistung: Organisation und Regulierung von Erwerbsarbeit | E13: 5
A14: 3 | B14: ZBA | C14: 60111 | D14: Arbeit in der Gesellschaft | E14: 5
A15: 4 | B15: SBA | C15: 60102 | D15: Studienleistung: Arbeit in der Gesellschaft | E15: 5
A16: 5 | B16: ZBA | C16: 60112 | D16: Einf. in multivariate Analyseverfahren | E16: 5
A17: 6 | B17: ZBA | C17: 50153 | D17: Quantitative Methoden | E17: 5
A18: 7 | B18: ZBA | C18: 60213 | D18: Qualitative Methoden 1 | E18: 5
A19: 8 | B19: ZBA | C19: 60100 | D19: Qualitative Methoden 2 | E19: 5
A20: 9 | B20: ZBA | C20: 60115 | D20: Theorien der Arbeits und Organisationssoziologie und ihre empirische Anwendung | E20: 5
A21: 10 | B21: SBA | C21: 60103 | D21: Studienleistung: Wissenschaftstheoretische Voraussetzungen soziologischer Forschung | E21: 5
A22: 11 | B22: ZFA | C22: 93730 | D22: Vergütung und Leistungsanreize | E22: 5
A23: 12 | B23: ZFA | C23: 93729 | D23: Ganzheitliche Unternehmensführung | E23: 5
... A38: 27 | B38: SBA | C38: 60105 | D38: Studienleistung: Vertiefungsmodul-Seminar aus MA Sozioökonomie | E38: 5
A39: Forschungswerkstatt
A40: 28 | B40: ZBA | C40: 60119 | D40: Forschungswerkstatt | E40: 15
A41: Abschlussmodul
A42: 29 | D42: Masterarbeit | E42: 35
